BEGIN:VCALENDAR
VERSION:2.0
PRODID:-//Mairie de Lagarigue - ECPv6.15.20//NONSGML v1.0//EN
CALSCALE:GREGORIAN
METHOD:PUBLISH
X-ORIGINAL-URL:https://lagarrigue81.fr
X-WR-CALDESC:Évènements pour Mairie de Lagarigue
REFRESH-INTERVAL;VALUE=DURATION:PT1H
X-Robots-Tag:noindex
X-PUBLISHED-TTL:PT1H
BEGIN:VTIMEZONE
TZID:UTC
BEGIN:STANDARD
TZOFFSETFROM:+0000
TZOFFSETTO:+0000
TZNAME:UTC
DTSTART:20220101T000000
END:STANDARD
END:VTIMEZONE
BEGIN:VEVENT
DTSTART;TZID=UTC:20231104T170000
DTEND;TZID=UTC:20231104T233000
DTSTAMP:20260421T081151
CREATED:20230925T143445Z
LAST-MODIFIED:20230925T144913Z
UID:13089-1699117200-1699140600@lagarrigue81.fr
SUMMARY:Festialigot
DESCRIPTION:Festialigot organisé par les festayres\, le samedi 4 novembre 2023 à partir de 17h (retransmission du match du Castres Olympique) suivi d’un repas avec une animation musicale\, à la salle des fêtes de Lagarrigue.
URL:https://lagarrigue81.fr/agenda/festialigot/
LOCATION:Salle des fêtes\, Lagarrigue\, 81090
END:VEVENT
BEGIN:VEVENT
DTSTART;TZID=UTC:20231119T090000
DTEND;TZID=UTC:20231119T163000
DTSTAMP:20260421T081151
CREATED:20230503T115118Z
LAST-MODIFIED:20230503T115118Z
UID:12217-1700384400-1700411400@lagarrigue81.fr
SUMMARY:Bourse aux jouets\, puériculture et décorations
DESCRIPTION:L’ADMR organise une bourse aux jouets\, puériculture et décorations à la salle des fêtes\, le dimanche 19 novembre de 9h à 16h30. \n 
URL:https://lagarrigue81.fr/agenda/bourse-aux-jouets-puericulture-et-decorations/
LOCATION:Salle des fêtes\, Lagarrigue\, 81090
END:VEVENT
BEGIN:VEVENT
DTSTART;TZID=UTC:20231126T080000
DTEND;TZID=UTC:20231126T170000
DTSTAMP:20260421T081151
CREATED:20230713T143615Z
LAST-MODIFIED:20230713T143615Z
UID:12874-1700985600-1701018000@lagarrigue81.fr
SUMMARY:Foulées Lagarriguoises : 2ème édition
DESCRIPTION:
URL:https://lagarrigue81.fr/agenda/foulees-lagarriguoises-2eme-edition/
END:VEVENT
END:VCALENDAR