BEGIN:VCALENDAR
VERSION:2.0
PRODID:-//Mairie de Lagarigue - ECPv6.15.20//NONSGML v1.0//EN
CALSCALE:GREGORIAN
METHOD:PUBLISH
X-ORIGINAL-URL:https://lagarrigue81.fr
X-WR-CALDESC:Évènements pour Mairie de Lagarigue
REFRESH-INTERVAL;VALUE=DURATION:PT1H
X-Robots-Tag:noindex
X-PUBLISHED-TTL:PT1H
BEGIN:VTIMEZONE
TZID:UTC
BEGIN:STANDARD
TZOFFSETFROM:+0000
TZOFFSETTO:+0000
TZNAME:UTC
DTSTART:20220101T000000
END:STANDARD
END:VTIMEZONE
BEGIN:VEVENT
DTSTART;VALUE=DATE:20231014
DTEND;VALUE=DATE:20231015
DTSTAMP:20260421T094108
CREATED:20230707T074225Z
LAST-MODIFIED:20230707T074225Z
UID:12822-1697241600-1697327999@lagarrigue81.fr
SUMMARY:Fête de la MJC
DESCRIPTION:La MJC fête ses 15 ans ! \n 
URL:https://lagarrigue81.fr/agenda/fete-de-la-mjc-2/
LOCATION:Espace culturel et sportif Jacqueline Pradalié\, 13 allée de l'Amitié\, Lagarrigue\, 81090
END:VEVENT
END:VCALENDAR