BEGIN:VCALENDAR
VERSION:2.0
PRODID:-//Mairie de Lagarigue - ECPv6.15.20//NONSGML v1.0//EN
CALSCALE:GREGORIAN
METHOD:PUBLISH
X-WR-CALNAME:Mairie de Lagarigue
X-ORIGINAL-URL:https://lagarrigue81.fr
X-WR-CALDESC:Évènements pour Mairie de Lagarigue
REFRESH-INTERVAL;VALUE=DURATION:PT1H
X-Robots-Tag:noindex
X-PUBLISHED-TTL:PT1H
BEGIN:VTIMEZONE
TZID:UTC
BEGIN:STANDARD
TZOFFSETFROM:+0000
TZOFFSETTO:+0000
TZNAME:UTC
DTSTART:20220101T000000
END:STANDARD
END:VTIMEZONE
BEGIN:VEVENT
DTSTART;TZID=UTC:20230508T110000
DTEND;TZID=UTC:20230508T123000
DTSTAMP:20260421T171703
CREATED:20230418T095206Z
LAST-MODIFIED:20230418T095757Z
UID:12168-1683543600-1683549000@lagarrigue81.fr
SUMMARY:Cérémonie du 8 mai
DESCRIPTION:
URL:https://lagarrigue81.fr/agenda/ceremonie-du-8-mai/
LOCATION:Monument aux morts
END:VEVENT
BEGIN:VEVENT
DTSTART;TZID=UTC:20230512T193000
DTEND;TZID=UTC:20230512T230000
DTSTAMP:20260421T171703
CREATED:20230503T081647Z
LAST-MODIFIED:20230503T081647Z
UID:12206-1683919800-1683932400@lagarrigue81.fr
SUMMARY:Afterwork Electro-techno-chant
DESCRIPTION:La MJC de Lagarrigue propose un aflterwork Electro-techno-chant avec La poche rose. \n  \n  \n  \n 
URL:https://lagarrigue81.fr/agenda/afterwork-electro-techno-chant/
LOCATION:Espace culturel et sportif Jacqueline Pradalié\, 13 allée de l'Amitié\, Lagarrigue\, 81090
END:VEVENT
BEGIN:VEVENT
DTSTART;TZID=UTC:20230514T100000
DTEND;TZID=UTC:20230514T180000
DTSTAMP:20260421T171703
CREATED:20230215T100433Z
LAST-MODIFIED:20230503T061456Z
UID:11887-1684058400-1684087200@lagarrigue81.fr
SUMMARY:Exposition Balade de porcelaines
DESCRIPTION:L’association Balade de porcelaine organise une exposition au centre culturel Jacqueline Pradalié\, le dimanche 14 mai 2023.
URL:https://lagarrigue81.fr/agenda/exposition-balade-de-porcelaines-3/
LOCATION:Espace culturel et sportif Jacqueline Pradalié\, 13 allée de l'Amitié\, Lagarrigue\, 81090
ORGANIZER;CN="Association Balade de porcelaines":MAILTO:baladedeporcelaines@gmail.com
END:VEVENT
BEGIN:VEVENT
DTSTART;TZID=UTC:20230526T170000
DTEND;TZID=UTC:20230526T183000
DTSTAMP:20260421T171703
CREATED:20201002T064139Z
LAST-MODIFIED:20230515T092616Z
UID:8426-1685120400-1685125800@lagarrigue81.fr
SUMMARY:Bibliothèque municipale
DESCRIPTION:
URL:https://lagarrigue81.fr/agenda/bibliotheque-municipale-3/
LOCATION:Salle muncipale du Plô\, Rue du Presbytère\, Lagarrigue
END:VEVENT
END:VCALENDAR