BEGIN:VCALENDAR
VERSION:2.0
PRODID:-//Mairie de Lagarigue - ECPv6.15.20//NONSGML v1.0//EN
CALSCALE:GREGORIAN
METHOD:PUBLISH
X-ORIGINAL-URL:https://lagarrigue81.fr
X-WR-CALDESC:Évènements pour Mairie de Lagarigue
REFRESH-INTERVAL;VALUE=DURATION:PT1H
X-Robots-Tag:noindex
X-PUBLISHED-TTL:PT1H
BEGIN:VTIMEZONE
TZID:UTC
BEGIN:STANDARD
TZOFFSETFROM:+0000
TZOFFSETTO:+0000
TZNAME:UTC
DTSTART:20210101T000000
END:STANDARD
END:VTIMEZONE
BEGIN:VEVENT
DTSTART;TZID=UTC:20221111T110000
DTEND;TZID=UTC:20221111T120000
DTSTAMP:20260422T022456
CREATED:20221024T133604Z
LAST-MODIFIED:20221024T142458Z
UID:11337-1668164400-1668168000@lagarrigue81.fr
SUMMARY:Cérémonie du 11 novembre 2022
DESCRIPTION:La cérémonie de commémoration du 11 novembre 1918 aura lieu le vendredi 11 novembre 2022 à 11h\, devant le monument aux morts.
URL:https://lagarrigue81.fr/agenda/ceremonie-du-11-novembre-2022/
END:VEVENT
BEGIN:VEVENT
DTSTART;TZID=UTC:20221113T090000
DTEND;TZID=UTC:20221113T163000
DTSTAMP:20260422T022456
CREATED:20220922T082357Z
LAST-MODIFIED:20220922T082357Z
UID:11251-1668330000-1668357000@lagarrigue81.fr
SUMMARY:Bourse aux jouets et décorations de fêtes
DESCRIPTION:
URL:https://lagarrigue81.fr/agenda/bourse-aux-jouets-et-decorations-de-fetes/
LOCATION:Salle des fêtes\, Lagarrigue\, 81090
END:VEVENT
BEGIN:VEVENT
DTSTART;TZID=UTC:20221125T193000
DTEND;TZID=UTC:20221125T230000
DTSTAMP:20260422T022456
CREATED:20220718T141657Z
LAST-MODIFIED:20220718T141657Z
UID:11032-1669404600-1669417200@lagarrigue81.fr
SUMMARY:Afterwork Duo Madchat
DESCRIPTION:
URL:https://lagarrigue81.fr/agenda/afterwork-duo-madchat/
ORGANIZER;CN="MJC de Lagarrigue":MAILTO:contactmjclac@orange.fr
END:VEVENT
BEGIN:VEVENT
DTSTART;TZID=UTC:20221127T100000
DTEND;TZID=UTC:20221127T140000
DTSTAMP:20260422T022456
CREATED:20221024T142944Z
LAST-MODIFIED:20221025T070221Z
UID:11345-1669543200-1669557600@lagarrigue81.fr
SUMMARY:Foulées Lagarriguoises
DESCRIPTION:
URL:https://lagarrigue81.fr/agenda/foulees-lagarriguoises/
END:VEVENT
END:VCALENDAR