BEGIN:VCALENDAR
VERSION:2.0
PRODID:-//Mairie de Lagarigue - ECPv6.15.20//NONSGML v1.0//EN
CALSCALE:GREGORIAN
METHOD:PUBLISH
X-WR-CALNAME:Mairie de Lagarigue
X-ORIGINAL-URL:https://lagarrigue81.fr
X-WR-CALDESC:Évènements pour Mairie de Lagarigue
REFRESH-INTERVAL;VALUE=DURATION:PT1H
X-Robots-Tag:noindex
X-PUBLISHED-TTL:PT1H
BEGIN:VTIMEZONE
TZID:UTC
BEGIN:STANDARD
TZOFFSETFROM:+0000
TZOFFSETTO:+0000
TZNAME:UTC
DTSTART:20210101T000000
END:STANDARD
END:VTIMEZONE
BEGIN:VEVENT
DTSTART;TZID=UTC:20220211T173000
DTEND;TZID=UTC:20220211T190000
DTSTAMP:20260422T155925
CREATED:20220124T150124Z
LAST-MODIFIED:20220124T150124Z
UID:10127-1644600600-1644606000@lagarrigue81.fr
SUMMARY:Conférence "La légende de Sygéric"
DESCRIPTION:
URL:https://lagarrigue81.fr/agenda/conference-la-legende-de-sygeric/
LOCATION:Salle du conseil de la Mairie
END:VEVENT
END:VCALENDAR