BEGIN:VCALENDAR
VERSION:2.0
PRODID:-//Mairie de Lagarigue - ECPv6.15.20//NONSGML v1.0//EN
CALSCALE:GREGORIAN
METHOD:PUBLISH
X-WR-CALNAME:Mairie de Lagarigue
X-ORIGINAL-URL:https://lagarrigue81.fr
X-WR-CALDESC:Évènements pour Mairie de Lagarigue
REFRESH-INTERVAL;VALUE=DURATION:PT1H
X-Robots-Tag:noindex
X-PUBLISHED-TTL:PT1H
BEGIN:VTIMEZONE
TZID:UTC
BEGIN:STANDARD
TZOFFSETFROM:+0000
TZOFFSETTO:+0000
TZNAME:UTC
DTSTART:20230101T000000
END:STANDARD
END:VTIMEZONE
BEGIN:VEVENT
DTSTART;TZID=UTC:20240407T080000
DTEND;TZID=UTC:20240407T170000
DTSTAMP:20260421T123034
CREATED:20230707T074338Z
LAST-MODIFIED:20230707T074338Z
UID:12826-1712476800-1712509200@lagarrigue81.fr
SUMMARY:Vide grenier
DESCRIPTION:Vide greniers organisé par la MJC.
URL:https://lagarrigue81.fr/agenda/vide-grenier-3/
END:VEVENT
END:VCALENDAR