BEGIN:VCALENDAR
VERSION:2.0
PRODID:-//Mairie de Lagarigue - ECPv6.15.20//NONSGML v1.0//EN
CALSCALE:GREGORIAN
METHOD:PUBLISH
X-ORIGINAL-URL:https://lagarrigue81.fr
X-WR-CALDESC:Évènements pour Mairie de Lagarigue
REFRESH-INTERVAL;VALUE=DURATION:PT1H
X-Robots-Tag:noindex
X-PUBLISHED-TTL:PT1H
BEGIN:VTIMEZONE
TZID:UTC
BEGIN:STANDARD
TZOFFSETFROM:+0000
TZOFFSETTO:+0000
TZNAME:UTC
DTSTART:20220101T000000
END:STANDARD
END:VTIMEZONE
BEGIN:VEVENT
DTSTART;VALUE=DATE:20230826
DTEND;VALUE=DATE:20230911
DTSTAMP:20260421T123557
CREATED:20230721T102038Z
LAST-MODIFIED:20230721T102038Z
UID:12922-1693008000-1694390399@lagarrigue81.fr
SUMMARY:Tennis Club Lagarrigue : Grand prix du Tarn
DESCRIPTION:
URL:https://lagarrigue81.fr/agenda/tennis-club-lagarrigue-grand-prix-du-tarn/
LOCATION:Espace culturel et sportif Jacqueline Pradalié\, 13 allée de l'Amitié\, Lagarrigue\, 81090
END:VEVENT
END:VCALENDAR