BEGIN:VCALENDAR
VERSION:2.0
PRODID:-//Mairie de Lagarigue - ECPv6.15.20//NONSGML v1.0//EN
CALSCALE:GREGORIAN
METHOD:PUBLISH
X-WR-CALNAME:Mairie de Lagarigue
X-ORIGINAL-URL:https://lagarrigue81.fr
X-WR-CALDESC:Évènements pour Mairie de Lagarigue
REFRESH-INTERVAL;VALUE=DURATION:PT1H
X-Robots-Tag:noindex
X-PUBLISHED-TTL:PT1H
BEGIN:VTIMEZONE
TZID:UTC
BEGIN:STANDARD
TZOFFSETFROM:+0000
TZOFFSETTO:+0000
TZNAME:UTC
DTSTART:20220101T000000
END:STANDARD
END:VTIMEZONE
BEGIN:VEVENT
DTSTART;TZID=UTC:20230821T100000
DTEND;TZID=UTC:20230824T113000
DTSTAMP:20260421T140740
CREATED:20230721T102235Z
LAST-MODIFIED:20230721T102235Z
UID:12926-1692612000-1692876600@lagarrigue81.fr
SUMMARY:TCL : Découverte tennis enfant
DESCRIPTION:
URL:https://lagarrigue81.fr/agenda/tcl-decouverte-tennis-enfant/
LOCATION:Espace culturel et sportif Jacqueline Pradalié\, 13 allée de l'Amitié\, Lagarrigue\, 81090
END:VEVENT
END:VCALENDAR