BEGIN:VCALENDAR
VERSION:2.0
PRODID:-//Mairie de Lagarigue - ECPv6.15.20//NONSGML v1.0//EN
CALSCALE:GREGORIAN
METHOD:PUBLISH
X-WR-CALNAME:Mairie de Lagarigue
X-ORIGINAL-URL:https://lagarrigue81.fr
X-WR-CALDESC:Évènements pour Mairie de Lagarigue
REFRESH-INTERVAL;VALUE=DURATION:PT1H
X-Robots-Tag:noindex
X-PUBLISHED-TTL:PT1H
BEGIN:VTIMEZONE
TZID:UTC
BEGIN:STANDARD
TZOFFSETFROM:+0000
TZOFFSETTO:+0000
TZNAME:UTC
DTSTART:20220101T000000
END:STANDARD
END:VTIMEZONE
BEGIN:VEVENT
DTSTART;TZID=UTC:20230526T170000
DTEND;TZID=UTC:20230526T183000
DTSTAMP:20260421T184658
CREATED:20201002T064139Z
LAST-MODIFIED:20230515T092616Z
UID:8426-1685120400-1685125800@lagarrigue81.fr
SUMMARY:Bibliothèque municipale
DESCRIPTION:
URL:https://lagarrigue81.fr/agenda/bibliotheque-municipale-3/
LOCATION:Salle muncipale du Plô\, Rue du Presbytère\, Lagarrigue
END:VEVENT
END:VCALENDAR