BEGIN:VCALENDAR
VERSION:2.0
PRODID:-//Mairie de Lagarigue - ECPv6.15.20//NONSGML v1.0//EN
CALSCALE:GREGORIAN
METHOD:PUBLISH
X-WR-CALNAME:Mairie de Lagarigue
X-ORIGINAL-URL:https://lagarrigue81.fr
X-WR-CALDESC:Évènements pour Mairie de Lagarigue
REFRESH-INTERVAL;VALUE=DURATION:PT1H
X-Robots-Tag:noindex
X-PUBLISHED-TTL:PT1H
BEGIN:VTIMEZONE
TZID:UTC
BEGIN:STANDARD
TZOFFSETFROM:+0000
TZOFFSETTO:+0000
TZNAME:UTC
DTSTART:20220101T000000
END:STANDARD
END:VTIMEZONE
BEGIN:VEVENT
DTSTART;TZID=UTC:20230421T080000
DTEND;TZID=UTC:20230428T170000
DTSTAMP:20260421T201912
CREATED:20220919T131009Z
LAST-MODIFIED:20230421T071610Z
UID:11243-1682064000-1682701200@lagarrigue81.fr
SUMMARY:Festival à l'an vert
DESCRIPTION:Plus d’informations sur le site de la MJC  : https://www.mjclagarrigue.com/actualite-3910-2eme-festival-a-l-an-vert-de-lagarrigue.html
URL:https://lagarrigue81.fr/agenda/festival-a-lan-vert/
ORGANIZER;CN="MJC de Lagarrigue":MAILTO:contactmjclac@orange.fr
END:VEVENT
END:VCALENDAR