BEGIN:VCALENDAR
VERSION:2.0
PRODID:-//Mairie de Lagarigue - ECPv6.15.20//NONSGML v1.0//EN
CALSCALE:GREGORIAN
METHOD:PUBLISH
X-WR-CALNAME:Mairie de Lagarigue
X-ORIGINAL-URL:https://lagarrigue81.fr
X-WR-CALDESC:Évènements pour Mairie de Lagarigue
REFRESH-INTERVAL;VALUE=DURATION:PT1H
X-Robots-Tag:noindex
X-PUBLISHED-TTL:PT1H
BEGIN:VTIMEZONE
TZID:UTC
BEGIN:STANDARD
TZOFFSETFROM:+0000
TZOFFSETTO:+0000
TZNAME:UTC
DTSTART:20220101T000000
END:STANDARD
END:VTIMEZONE
BEGIN:VEVENT
DTSTART;VALUE=DATE:20230402
DTEND;VALUE=DATE:20230403
DTSTAMP:20260421T201105
CREATED:20220919T130833Z
LAST-MODIFIED:20230116T102900Z
UID:11238-1680393600-1680479999@lagarrigue81.fr
SUMMARY:Vide greniers
DESCRIPTION: 
URL:https://lagarrigue81.fr/agenda/vide-greniers-2/
ORGANIZER;CN="MJC de Lagarrigue":MAILTO:contactmjclac@orange.fr
END:VEVENT
END:VCALENDAR