BEGIN:VCALENDAR
VERSION:2.0
PRODID:-//Mairie de Lagarigue - ECPv6.15.20//NONSGML v1.0//EN
CALSCALE:GREGORIAN
METHOD:PUBLISH
X-WR-CALNAME:Mairie de Lagarigue
X-ORIGINAL-URL:https://lagarrigue81.fr
X-WR-CALDESC:Évènements pour Mairie de Lagarigue
REFRESH-INTERVAL;VALUE=DURATION:PT1H
X-Robots-Tag:noindex
X-PUBLISHED-TTL:PT1H
BEGIN:VTIMEZONE
TZID:UTC
BEGIN:STANDARD
TZOFFSETFROM:+0000
TZOFFSETTO:+0000
TZNAME:UTC
DTSTART:20220101T000000
END:STANDARD
END:VTIMEZONE
BEGIN:VEVENT
DTSTART;TZID=UTC:20230319T090000
DTEND;TZID=UTC:20230319T170000
DTSTAMP:20260421T214321
CREATED:20230116T142917Z
LAST-MODIFIED:20230307T082903Z
UID:11717-1679216400-1679245200@lagarrigue81.fr
SUMMARY:Vide armoires
DESCRIPTION:Le Centre Communal d’Action Sociale de Lagarrigue organise un vide armoires\, le dimanche 19 mars 2023 de 9h à 17h à la SALLE DES FÊTES.
URL:https://lagarrigue81.fr/agenda/vide-armoires-4/
LOCATION:Salle des fêtes\, Lagarrigue\, 81090
END:VEVENT
END:VCALENDAR