BEGIN:VCALENDAR
VERSION:2.0
PRODID:-//Mairie de Lagarigue - ECPv6.15.20//NONSGML v1.0//EN
CALSCALE:GREGORIAN
METHOD:PUBLISH
X-ORIGINAL-URL:https://lagarrigue81.fr
X-WR-CALDESC:Évènements pour Mairie de Lagarigue
REFRESH-INTERVAL;VALUE=DURATION:PT1H
X-Robots-Tag:noindex
X-PUBLISHED-TTL:PT1H
BEGIN:VTIMEZONE
TZID:UTC
BEGIN:STANDARD
TZOFFSETFROM:+0000
TZOFFSETTO:+0000
TZNAME:UTC
DTSTART:20220101T000000
END:STANDARD
END:VTIMEZONE
BEGIN:VEVENT
DTSTART;TZID=UTC:20230224T183000
DTEND;TZID=UTC:20230224T230000
DTSTAMP:20260421T232303
CREATED:20230102T100833Z
LAST-MODIFIED:20230102T100833Z
UID:11577-1677263400-1677279600@lagarrigue81.fr
SUMMARY:Afterwork
DESCRIPTION:
URL:https://lagarrigue81.fr/agenda/afterwork-5/
LOCATION:Espace culturel et sportif Jacqueline Pradalié\, 13 allée de l'Amitié\, Lagarrigue\, 81090
ORGANIZER;CN="MJC de Lagarrigue":MAILTO:contactmjclac@orange.fr
END:VEVENT
END:VCALENDAR