BEGIN:VCALENDAR
VERSION:2.0
PRODID:-//Mairie de Lagarigue - ECPv6.15.20//NONSGML v1.0//EN
CALSCALE:GREGORIAN
METHOD:PUBLISH
X-WR-CALNAME:Mairie de Lagarigue
X-ORIGINAL-URL:https://lagarrigue81.fr
X-WR-CALDESC:Évènements pour Mairie de Lagarigue
REFRESH-INTERVAL;VALUE=DURATION:PT1H
X-Robots-Tag:noindex
X-PUBLISHED-TTL:PT1H
BEGIN:VTIMEZONE
TZID:UTC
BEGIN:STANDARD
TZOFFSETFROM:+0000
TZOFFSETTO:+0000
TZNAME:UTC
DTSTART:20220101T000000
END:STANDARD
END:VTIMEZONE
BEGIN:VEVENT
DTSTART;VALUE=DATE:20230103
DTEND;VALUE=DATE:20230123
DTSTAMP:20260422T004819
CREATED:20221121T085127Z
LAST-MODIFIED:20221121T085244Z
UID:11435-1672704000-1674431999@lagarrigue81.fr
SUMMARY:Collecte des sapins
DESCRIPTION:
URL:https://lagarrigue81.fr/agenda/collecte-des-sapins/
END:VEVENT
BEGIN:VEVENT
DTSTART;TZID=UTC:20230107T183000
DTEND;TZID=UTC:20230107T230000
DTSTAMP:20260422T004819
CREATED:20230103T113036Z
LAST-MODIFIED:20230103T113036Z
UID:11601-1673116200-1673132400@lagarrigue81.fr
SUMMARY:Cérémonie des voeux
DESCRIPTION:
URL:https://lagarrigue81.fr/agenda/ceremonie-des-voeux/
LOCATION:Salle des fêtes\, Lagarrigue\, 81090
END:VEVENT
END:VCALENDAR