BEGIN:VCALENDAR
VERSION:2.0
PRODID:-//Mairie de Lagarigue - ECPv6.15.20//NONSGML v1.0//EN
CALSCALE:GREGORIAN
METHOD:PUBLISH
X-WR-CALNAME:Mairie de Lagarigue
X-ORIGINAL-URL:https://lagarrigue81.fr
X-WR-CALDESC:Évènements pour Mairie de Lagarigue
REFRESH-INTERVAL;VALUE=DURATION:PT1H
X-Robots-Tag:noindex
X-PUBLISHED-TTL:PT1H
BEGIN:VTIMEZONE
TZID:UTC
BEGIN:STANDARD
TZOFFSETFROM:+0000
TZOFFSETTO:+0000
TZNAME:UTC
DTSTART:20210101T000000
END:STANDARD
END:VTIMEZONE
BEGIN:VEVENT
DTSTART;TZID=UTC:20221125T193000
DTEND;TZID=UTC:20221125T230000
DTSTAMP:20260422T034731
CREATED:20220718T141657Z
LAST-MODIFIED:20220718T141657Z
UID:11032-1669404600-1669417200@lagarrigue81.fr
SUMMARY:Afterwork Duo Madchat
DESCRIPTION:
URL:https://lagarrigue81.fr/agenda/afterwork-duo-madchat/
ORGANIZER;CN="MJC de Lagarrigue":MAILTO:contactmjclac@orange.fr
END:VEVENT
END:VCALENDAR