BEGIN:VCALENDAR
VERSION:2.0
PRODID:-//Mairie de Lagarigue - ECPv6.15.20//NONSGML v1.0//EN
CALSCALE:GREGORIAN
METHOD:PUBLISH
X-WR-CALNAME:Mairie de Lagarigue
X-ORIGINAL-URL:https://lagarrigue81.fr
X-WR-CALDESC:Évènements pour Mairie de Lagarigue
REFRESH-INTERVAL;VALUE=DURATION:PT1H
X-Robots-Tag:noindex
X-PUBLISHED-TTL:PT1H
BEGIN:VTIMEZONE
TZID:UTC
BEGIN:STANDARD
TZOFFSETFROM:+0000
TZOFFSETTO:+0000
TZNAME:UTC
DTSTART:20210101T000000
END:STANDARD
END:VTIMEZONE
BEGIN:VEVENT
DTSTART;VALUE=DATE:20220419
DTEND;VALUE=DATE:20221016
DTSTAMP:20260422T075448
CREATED:20220419T062606Z
LAST-MODIFIED:20220419T062641Z
UID:10607-1650326400-1665878399@lagarrigue81.fr
SUMMARY:Concours photo
DESCRIPTION:L’Office de Tourisme de Castres-Mazamet organise un concours photo gratuit\, ouvert à tous jusqu’au 15/10/2022. 3 thèmes au choix sont proposés : « Notre territoire au fil de l’eau » (lacs\, rivières\, pluies…)\, « Notre territoire au crépuscule » (couché de soleil\, golden hour…) ainsi que les « Les savoir-faire de notre territoire ».\nA vos appareils ! \nPlus d’informations en cliquant sur le lien suivant : https://www.tourisme-castresmazamet.com/fr/concours-photo/ \n 
URL:https://lagarrigue81.fr/agenda/concours-photo-2/
END:VEVENT
END:VCALENDAR