BEGIN:VCALENDAR
VERSION:2.0
PRODID:-//Mairie de Lagarigue - ECPv6.15.20//NONSGML v1.0//EN
CALSCALE:GREGORIAN
METHOD:PUBLISH
X-WR-CALNAME:Mairie de Lagarigue
X-ORIGINAL-URL:https://lagarrigue81.fr
X-WR-CALDESC:Évènements pour Mairie de Lagarigue
REFRESH-INTERVAL;VALUE=DURATION:PT1H
X-Robots-Tag:noindex
X-PUBLISHED-TTL:PT1H
BEGIN:VTIMEZONE
TZID:UTC
BEGIN:STANDARD
TZOFFSETFROM:+0000
TZOFFSETTO:+0000
TZNAME:UTC
DTSTART:20200101T000000
END:STANDARD
END:VTIMEZONE
BEGIN:VEVENT
DTSTART;VALUE=DATE:20210823
DTEND;VALUE=DATE:20210825
DTSTAMP:20260423T013252
CREATED:20210512T063151Z
LAST-MODIFIED:20210512T063151Z
UID:9005-1629676800-1629849599@lagarrigue81.fr
SUMMARY:TCL : Tournoi multi chances départemental
DESCRIPTION:Le Tennis Club de Lagarrigue (TCL) organise un tournoi multi chances départemental pour les 15/16 ans.
URL:https://lagarrigue81.fr/agenda/tcl-tournoi-multi-chances-departemental/
LOCATION:Espace culturel et sportif Jacqueline Pradalié\, 13 allée de l'Amitié\, Lagarrigue\, 81090
END:VEVENT
END:VCALENDAR