BEGIN:VCALENDAR
VERSION:2.0
PRODID:-//Mairie de Lagarigue - ECPv6.15.20//NONSGML v1.0//EN
CALSCALE:GREGORIAN
METHOD:PUBLISH
X-ORIGINAL-URL:https://lagarrigue81.fr
X-WR-CALDESC:Évènements pour Mairie de Lagarigue
REFRESH-INTERVAL;VALUE=DURATION:PT1H
X-Robots-Tag:noindex
X-PUBLISHED-TTL:PT1H
BEGIN:VTIMEZONE
TZID:UTC
BEGIN:STANDARD
TZOFFSETFROM:+0000
TZOFFSETTO:+0000
TZNAME:UTC
DTSTART:20200101T000000
END:STANDARD
END:VTIMEZONE
BEGIN:VEVENT
DTSTART;TZID=UTC:20210627T080000
DTEND;TZID=UTC:20210627T180000
DTSTAMP:20260423T041419
CREATED:20210607T114341Z
LAST-MODIFIED:20210607T114341Z
UID:9050-1624780800-1624816800@lagarrigue81.fr
SUMMARY:Elections départementales et régionales - second tour
DESCRIPTION:Au vu de la situation sanitaire actuelle\, le bureau de vote de la commune de Lagarrigue est transféré à l’école publique\, 4 rue de la Poste. \nLes horaires d’ouverture du bureau de vote sont de 8h à 18h. \nLe port du masque est obligatoire\, du gel hydroalcoolique sera mis à disposition. \nMerci de vous munir de votre propre stylo de couleur noire ou bleue indélébile. \nA l’entrée du bureau de vote\, votre carte d’électeur\nainsi qu’une pièce d’identité avec photo vous seront demandées.
URL:https://lagarrigue81.fr/agenda/elections-departementales-et-regionales-second-tour/
LOCATION:Ecole de Lagarrigue\, 4 rue de la Poste\, Lagarrigue
END:VEVENT
END:VCALENDAR